BEGIN:VCALENDAR
PRODID:-//eluceo/ical//2.0/EN
VERSION:2.0
CALSCALE:GREGORIAN
BEGIN:VEVENT
UID:f771f560eef69e5130f11ae0bb8e1420
DTSTAMP:20260424T085314Z
SUMMARY:CBI's Tot Shabbat
DESCRIPTION:Jewish Federation of Greater Hartford\nCommunity Calendar\nhttp
 s://jewishhartford.org/community-calendar/cbis-tot-shabbat-1689174501\n\nC
 hildren 6 and under\, siblings\, parents\, grandparents - the whole mishpo
 cha - are invited to join us. We will sing and dance our way through Shabb
 at together! Tot Shabbat services precede our general Shabbat morning serv
 ices at 11:00. Young children sing along with our clergy\, hear stories\, 
 and receive special blessings. RSVPs encouraged to mmeyer@cbict.org.
DTSTART;TZID=America/New_York:20230805T103000
DTEND;TZID=America/New_York:20230805T110000
END:VEVENT
END:VCALENDAR
