BEGIN:VCALENDAR
PRODID:-//eluceo/ical//2.0/EN
VERSION:2.0
CALSCALE:GREGORIAN
BEGIN:VEVENT
UID:a2b79fe9b70a23dc894242a4d897371a
DTSTAMP:20260425T013608Z
SUMMARY:CBI's Tot Shabbat
DESCRIPTION:Jewish Federation of Greater Hartford\nCommunity Calendar\nhttp
 s://jewishhartford.org/community-calendar/cbis-tot-shabbat-1683825192\n\nC
 hildren under 6\, siblings\, parents\, grandparents - the whole mishpocha 
 - are invited to join us. We will sing and dance our way through Shabbat t
 ogether! RSVPs encouraged to mmeyer@cbict.org
DTSTART;TZID=America/New_York:20230603T103000
DTEND;TZID=America/New_York:20230603T110000
END:VEVENT
END:VCALENDAR
