BEGIN:VCALENDAR
PRODID:-//eluceo/ical//2.0/EN
VERSION:2.0
CALSCALE:GREGORIAN
BEGIN:VEVENT
UID:28fd36b48a691b1ebecdf02b83f93f7f
DTSTAMP:20260425T013556Z
SUMMARY:CBI's Tot Shabbat
DESCRIPTION:Jewish Federation of Greater Hartford\nCommunity Calendar\nhttp
 s://jewishhartford.org/community-calendar/cbis-tot-shabbat-1682013922\n\nC
 hildren under 6\, siblings\, parents\, grandparents - the whole mishpocha 
 - are invited to join us. We will sing and dance our way through Shabbat t
 ogether!
DTSTART;TZID=America/New_York:20230506T103000
DTEND;TZID=America/New_York:20230506T110000
END:VEVENT
END:VCALENDAR
