BEGIN:VCALENDAR
PRODID:-//eluceo/ical//2.0/EN
VERSION:2.0
CALSCALE:GREGORIAN
BEGIN:VEVENT
UID:ece17eff4ca65fe23ee91b7b67788388
DTSTAMP:20260419T190815Z
SUMMARY:CBI's Sukkot Open House & Pizza in the Hut
DESCRIPTION:Jewish Federation of Greater Hartford\nCommunity Calendar\nhttp
 s://jewishhartford.org/community-calendar/cbis-sukkot-open-house--pizza-in
 -the-hut-1728583722\n\nAll are welcome to join us to celebrate Sukkot in o
 ur courtyard sukkah! Enjoy pizza in the hut and get a chance to shake the 
 lulav and etrog if you choose! We&#39\;ll have music from our klezmer band
  and an opportunity for blessings. A wonderful way to celebrate this holid
 ay and focus on gratitude. Join us!
DTSTART;TZID=America/New_York:20241020T113000
DTEND;TZID=America/New_York:20241020T130000
END:VEVENT
END:VCALENDAR
