BEGIN:VCALENDAR
PRODID:-//eluceo/ical//2.0/EN
VERSION:2.0
CALSCALE:GREGORIAN
BEGIN:VEVENT
UID:0c24bf65facb290b3b088d0abdeb0ca8
DTSTAMP:20260424T083059Z
SUMMARY:CBI's Shabbat Service followed by Community Picnic
DESCRIPTION:Jewish Federation of Greater Hartford\nCommunity Calendar\nhttp
 s://jewishhartford.org/community-calendar/cbis-shabbat-service-followed-by
 -community-picnic-1687801552\n\nJoin family\, friends and neighbors for a 
 delicious picnic dinner catered by Yosi Kosher Catering after our Kabbalat
  Shabbat Service. We will welcome residents of Hoffman SummerWood to our s
 ervice and dinner. Please note\, the fare will be typical for a picnic and
  nothing hot will be included. A perfect dinner for a summer evening! Adva
 nced registration is required and the cost is $10 per person. We look forw
 ard to seeing you!
DTSTART;TZID=America/New_York:20230728T183000
DTEND;TZID=America/New_York:20230728T200000
END:VEVENT
END:VCALENDAR
