BEGIN:VCALENDAR
PRODID:-//eluceo/ical//2.0/EN
VERSION:2.0
CALSCALE:GREGORIAN
BEGIN:VEVENT
UID:45ed1cb30a769de1e597bb1fd2f0c9f5
DTSTAMP:20260423T132300Z
SUMMARY:CBI's Shabbark Shalom
DESCRIPTION:Jewish Federation of Greater Hartford\nCommunity Calendar\nhttp
 s://jewishhartford.org/community-calendar/cbis-shabbark-shalom-1709740087\
 n\nJoin us for a short Havdalah and walk on the trails of the West Hartfor
 d Reservoir on Farmington Avenue. All are welcome\, dogs not required to p
 articipate. RSVP to Michelle at mmeyer@cbict.org.
DTSTART;TZID=America/New_York:20240316T160000
DTEND;TZID=America/New_York:20240316T170000
END:VEVENT
END:VCALENDAR
