BEGIN:VCALENDAR
PRODID:-//eluceo/ical//2.0/EN
VERSION:2.0
CALSCALE:GREGORIAN
BEGIN:VEVENT
UID:10859a7f5cb77860ba4a0358454c2cac
DTSTAMP:20260426T034905Z
SUMMARY:CBI's SAGE: Playhouse on Park with Faith Fuerst
DESCRIPTION:Jewish Federation of Greater Hartford\nCommunity Calendar\nhttp
 s://jewishhartford.org/community-calendar/cbis-sage-playhouse-on-park-with
 -faith-fuerst-1683825635\n\nPlayhouse on Park is an award-winning regional
  theater founded in 2009 in West Hartford. Faith Fuerst serves as the Chie
 f Ambassador and will discuss its history\, growth in building diverse com
 munity relationships\, and provide a preview of upcoming performances and 
 events.\n\nFollowing the presentation there will be a light lunch served. 
 Please RSVP to Barb Lavine at wslavine@aol.com or 860-913-5744 or Kay Weis
 s at steven.k.weiss@gmail.com or 860-430-6284. For questions\, please cont
 act Barb o...
DTSTART;TZID=America/New_York:20230613T110000
DTEND;TZID=America/New_York:20230613T120000
END:VEVENT
END:VCALENDAR
