BEGIN:VCALENDAR
PRODID:-//eluceo/ical//2.0/EN
VERSION:2.0
CALSCALE:GREGORIAN
BEGIN:VEVENT
UID:6a5a654f7fbd6a943aa38d23c2d9bb5d
DTSTAMP:20260424T210715Z
SUMMARY:CBI's SAGE:  A Conversation with CBI Leadership
DESCRIPTION:Jewish Federation of Greater Hartford\nCommunity Calendar\nhttp
 s://jewishhartford.org/community-calendar/cbis-sage--a-conversation-with-c
 bi-leadership-1693513366\n\nSAGE meetings are open to all regardless of ag
 e. A light buffet lunch follows each SAGE in-person presentation.\nA Conve
 rsation with CBI Leadership: Chet Zaslow: Chet is a long-time member who h
 as served CBI in numerous leadership activities over the decades. As he be
 gins his first year as CBI President\, he will discuss the efforts being m
 ade to improve how we engage with each congregant (new and old) in the “
 Jewish Conversation” they want to have\, and how that will provide a bet
 ter sense...
DTSTART;TZID=America/New_York:20230912T110000
DTEND;TZID=America/New_York:20230912T120000
END:VEVENT
END:VCALENDAR
