BEGIN:VCALENDAR
PRODID:-//eluceo/ical//2.0/EN
VERSION:2.0
CALSCALE:GREGORIAN
BEGIN:VEVENT
UID:2bba76c0e05616cca96a248ff6816ce3
DTSTAMP:20260421T063936Z
SUMMARY:CBI's Purim Tot Shabbat
DESCRIPTION:Jewish Federation of Greater Hartford\nCommunity Calendar\nhttp
 s://jewishhartford.org/community-calendar/cbis-purim-tot-shabbat-170973975
 2\n\nCome dressed as your favorite Purim character! We’ll have groggers 
 as we tell the Purim story and hamantaschen to enjoy at the end. Children 
 under 6\, siblings\, parents\, and grandparents are invited to join us. RS
 VPs encouraged to Michelle at mmeyer@cbict.org.
DTSTART;TZID=America/New_York:20240316T103000
DTEND;TZID=America/New_York:20240316T110000
END:VEVENT
END:VCALENDAR
