BEGIN:VCALENDAR
PRODID:-//eluceo/ical//2.0/EN
VERSION:2.0
CALSCALE:GREGORIAN
BEGIN:VEVENT
UID:987b0a9bf2c5c1d333f0f529025a379a
DTSTAMP:20260424T083048Z
SUMMARY:CBI's Morning Shabbat Service at SummerWood
DESCRIPTION:Jewish Federation of Greater Hartford\nCommunity Calendar\nhttp
 s://jewishhartford.org/community-calendar/cbis-morning-shabbat-service-at-
 summerwood-1687801266\n\nCBI is teaming up with Summerwood this summer! Jo
 in us at Hoffman Summerwood for our morning Shabbat service which will be 
 led by Rabbi Pincus. Join us after the service for a hot traditional Kiddu
 sh lunch: meat cholent\, kishka\, potato and sweet noodle kugels and desse
 rt.
DTSTART;TZID=America/New_York:20230708T110000
DTEND;TZID=America/New_York:20230708T130000
END:VEVENT
END:VCALENDAR
