BEGIN:VCALENDAR
PRODID:-//eluceo/ical//2.0/EN
VERSION:2.0
CALSCALE:GREGORIAN
BEGIN:VEVENT
UID:b5dc75569c7f0b5b75262f98bf5c09f1
DTSTAMP:20260423T201224Z
SUMMARY:CBI's Kol Shabbat Service & Dinner
DESCRIPTION:Jewish Federation of Greater Hartford\nCommunity Calendar\nhttp
 s://jewishhartford.org/community-calendar/cbis-kol-shabbat-service--dinner
 -1693513600\n\nKol Shabbat is a camp-style service with a song-leader play
 ing guitar\, sometimes led in part by students in our Youth Engagement Pro
 gram. Join us afterwards for a delicious dinner by Yosi Kosher Catering! A
 dvanced registration is required for dinner only. The cost is $18 per adul
 t and $10 per child (aged 12 and under)\, and a $50 family cap.
DTSTART;TZID=America/New_York:20230908T180000
DTEND;TZID=America/New_York:20230908T190000
END:VEVENT
END:VCALENDAR
