BEGIN:VCALENDAR
PRODID:-//eluceo/ical//2.0/EN
VERSION:2.0
CALSCALE:GREGORIAN
BEGIN:VEVENT
UID:971e1a502cdfa4713713e54811eea102
DTSTAMP:20260421T103805Z
SUMMARY:CBI's Adult Ed: Schindler's List: Whoever Saves One Life Saves the 
 World
DESCRIPTION:Jewish Federation of Greater Hartford\nCommunity Calendar\nhttp
 s://jewishhartford.org/community-calendar/cbis-adult-ed-schindlers-list-wh
 oever-saves-one-life-saves-the-world-1709740341\n\nHow a broken briefcase 
 led to the world learning about a philandering Nazi who saved more than a 
 thousand Jews from extermination during World War II. John Kenrick combine
 s a passion for entertainment history with the practical know-how earned w
 hile working on stage productions at every level from amateur to Broadway.
  John gives talks on theatre and film history\, has appeared in numerous d
 ocumentaries\, and is the author of Musicals101.com\, The Complete Idiot&#
 39\;s Guide to Amateur Theatricals\, an...
DTSTART;TZID=America/New_York:20240328T203000
DTEND;TZID=America/New_York:20240328T213000
END:VEVENT
END:VCALENDAR
