BEGIN:VCALENDAR
PRODID:-//eluceo/ical//2.0/EN
VERSION:2.0
CALSCALE:GREGORIAN
BEGIN:VEVENT
UID:67a0628aae84f0b729830965b12f05e0
DTSTAMP:20260424T140753Z
SUMMARY:CBI's Adult Ed: Jewish Iran
DESCRIPTION:Jewish Federation of Greater Hartford\nCommunity Calendar\nhttp
 s://jewishhartford.org/community-calendar/cbis-adult-ed-jewish-iran-170973
 9190\n\nVirtual only program - register at www.cbict.org. Iran&#39\;s Jewi
 sh community is one of the oldest diaspora communities in the world. But i
 s there more to those 2700 years than Queen Esther and the Islamic Revolut
 ion? This talk examines the lesser-known parts of Iran&#39\;s Jewish Histo
 ry\, a vast story of prophets\, autonomous nations\, divergent sects\, epi
 c poetry\, and political intrigue. Through the music\, languages\, foods\,
  writings\, traditions\, and stories of two millennia\, along with their t
 ies to n...
DTSTART;TZID=America/New_York:20240310T130000
DTEND;TZID=America/New_York:20240310T140000
END:VEVENT
END:VCALENDAR
