BEGIN:VCALENDAR
PRODID:-//eluceo/ical//2.0/EN
VERSION:2.0
CALSCALE:GREGORIAN
BEGIN:VEVENT
UID:1b6ff578f6301691f213677aeea35bac
DTSTAMP:20260419T193033Z
SUMMARY:Camp Isabella Freedman (50+)
DESCRIPTION:Jewish Federation of Greater Hartford\nCommunity Calendar\nhttp
 s://jewishhartford.org/community-calendar/camp-isabella-freedman-50-171284
 3181\n\nIsabella Freedman Jewish Retreat Center has been offering annual s
 ummer camp experiences for adults since 1956. We are honored to continue t
 his tradition for adults by providing you with a warm and welcoming atmosp
 here for one of the best summer vacations you’ll ever have.
DTSTART;TZID=America/New_York:20240628T160000
DTEND;TZID=America/New_York:20240707T110000
END:VEVENT
END:VCALENDAR
