BEGIN:VCALENDAR
PRODID:-//eluceo/ical//2.0/EN
VERSION:2.0
CALSCALE:GREGORIAN
BEGIN:VEVENT
UID:3b9f6aafffb2a122f4dd6295b59ab89b
DTSTAMP:20260425T040411Z
SUMMARY:Breakfast & Speaker Program with Melissa Shakun
DESCRIPTION:Jewish Federation of Greater Hartford\nCommunity Calendar\nhttp
 s://jewishhartford.org/community-calendar/breakfast--speaker-program-with-
 melissa-shakun-1709738685\n\nAll are welcome for some hot coffee or tea\, 
 a delicious breakfast and to hear from Melissa Shakun\, an Emmy-award winn
 ing Scenic Designer based in New York City. She recently Designed and Art 
 Directed for Season 44 of Saturday Night Live. This program is free and sp
 onsored by CBI&#39\;s Brotherhood. Donations at the event are welcome.
DTSTART;TZID=America/New_York:20240317T090000
DTEND;TZID=America/New_York:20240317T103000
END:VEVENT
END:VCALENDAR
