BEGIN:VCALENDAR
PRODID:-//eluceo/ical//2.0/EN
VERSION:2.0
CALSCALE:GREGORIAN
BEGIN:VEVENT
UID:b52e1958ea5648ec65c37d0e99c14752
DTSTAMP:20260421T180708Z
SUMMARY:Beth El Temple Executive Board Meeting
DESCRIPTION:Jewish Federation of Greater Hartford\nCommunity Calendar\nhttp
 s://jewishhartford.org/community-calendar/beth-el-temple-executive-board-m
 eeting-1684435841\n\nExecutive Board Meeting
DTSTART;TZID=America/New_York:20240326T180000
DTEND;TZID=America/New_York:20240326T200000
END:VEVENT
END:VCALENDAR
