BEGIN:VCALENDAR
PRODID:-//eluceo/ical//2.0/EN
VERSION:2.0
CALSCALE:GREGORIAN
BEGIN:VEVENT
UID:2ba642992ccf46f119488b2fe9ab854f
DTSTAMP:20260423T201211Z
SUMMARY:Beth El Temple Executive Board Meeting
DESCRIPTION:Jewish Federation of Greater Hartford\nCommunity Calendar\nhttp
 s://jewishhartford.org/community-calendar/beth-el-temple-executive-board-m
 eeting-1684435646\n\nExecutive Board Meeting
DTSTART;TZID=America/New_York:20230928T180000
DTEND;TZID=America/New_York:20230928T200000
END:VEVENT
END:VCALENDAR
