BEGIN:VCALENDAR
PRODID:-//eluceo/ical//2.0/EN
VERSION:2.0
CALSCALE:GREGORIAN
BEGIN:VEVENT
UID:feb1bf5852f5b8767ad8b71ded94647d
DTSTAMP:20260424T050017Z
SUMMARY:Beth El Temple Board Meeting
DESCRIPTION:Jewish Federation of Greater Hartford\nCommunity Calendar\nhttp
 s://jewishhartford.org/community-calendar/beth-el-temple-board-meeting-168
 4436202\n\nBoard Meeting
DTSTART;TZID=America/New_York:20240319T190000
DTEND;TZID=America/New_York:20240319T210000
END:VEVENT
END:VCALENDAR
