BEGIN:VCALENDAR
PRODID:-//eluceo/ical//2.0/EN
VERSION:2.0
CALSCALE:GREGORIAN
BEGIN:VEVENT
UID:e6bd832dc3a853d8c267042ffe65c944
DTSTAMP:20260421T230022Z
SUMMARY:Beth El Temple Board Meeting
DESCRIPTION:Jewish Federation of Greater Hartford\nCommunity Calendar\nhttp
 s://jewishhartford.org/community-calendar/beth-el-temple-board-meeting-168
 4436150\n\nBoard Meeting
DTSTART;TZID=America/New_York:20240213T190000
DTEND;TZID=America/New_York:20240213T210000
END:VEVENT
END:VCALENDAR
