BEGIN:VCALENDAR
PRODID:-//eluceo/ical//2.0/EN
VERSION:2.0
CALSCALE:GREGORIAN
BEGIN:VEVENT
UID:bd180347e40e68a488164e0ca8d4405b
DTSTAMP:20260423T013040Z
SUMMARY:Beth El Temple Board Meeting
DESCRIPTION:Jewish Federation of Greater Hartford\nCommunity Calendar\nhttp
 s://jewishhartford.org/community-calendar/beth-el-temple-board-meeting-168
 4436097\n\nBoard Meeting
DTSTART;TZID=America/New_York:20231212T190000
DTEND;TZID=America/New_York:20231212T210000
END:VEVENT
END:VCALENDAR
