BEGIN:VCALENDAR
PRODID:-//eluceo/ical//2.0/EN
VERSION:2.0
CALSCALE:GREGORIAN
BEGIN:VEVENT
UID:a8e588129e06e33348d5328d8f9b3ed0
DTSTAMP:20260420T172333Z
SUMMARY:Beth El Temple - Executive Board Meeting
DESCRIPTION:Jewish Federation of Greater Hartford\nCommunity Calendar\nhttp
 s://jewishhartford.org/community-calendar/beth-el-temple---executive-board
 -meeting-1721843530\n\nExecutive Board
DTSTART;TZID=America/New_York:20241015T180000
DTEND;TZID=America/New_York:20241015T200000
END:VEVENT
END:VCALENDAR
