BEGIN:VCALENDAR
PRODID:-//eluceo/ical//2.0/EN
VERSION:2.0
CALSCALE:GREGORIAN
BEGIN:VEVENT
UID:9c3e862bdbd1dbb5c6c43801cf861047
DTSTAMP:20260420T081531Z
SUMMARY:Beth El Temple - Executive Board
DESCRIPTION:Jewish Federation of Greater Hartford\nCommunity Calendar\nhttp
 s://jewishhartford.org/community-calendar/beth-el-temple---executive-board
 -1721843769\n\nExecutive Board
DTSTART;TZID=America/New_York:20250506T180000
DTEND;TZID=America/New_York:20250506T200000
END:VEVENT
END:VCALENDAR
