BEGIN:VCALENDAR
PRODID:-//eluceo/ical//2.0/EN
VERSION:2.0
CALSCALE:GREGORIAN
BEGIN:VEVENT
UID:deb2ad6e5cddc4521d6e9904a46b8050
DTSTAMP:20260423T144623Z
SUMMARY:Beth David Synagogue Board Meeting
DESCRIPTION:Jewish Federation of Greater Hartford\nCommunity Calendar\nhttp
 s://jewishhartford.org/community-calendar/beth-david-synagogue-board-meeti
 ng-1692561394\n\nBeth David Synagogue Board Meeting
DTSTART;TZID=America/New_York:20231113T190000
DTEND;TZID=America/New_York:20231113T203000
END:VEVENT
END:VCALENDAR
