BEGIN:VCALENDAR
PRODID:-//eluceo/ical//2.0/EN
VERSION:2.0
CALSCALE:GREGORIAN
BEGIN:VEVENT
UID:f9811890e8c01285ca87d1f49ca8b290
DTSTAMP:20260424T002257Z
SUMMARY:Beth David Synagogue Board Meeting
DESCRIPTION:Jewish Federation of Greater Hartford\nCommunity Calendar\nhttp
 s://jewishhartford.org/community-calendar/beth-david-synagogue-board-meeti
 ng-1692561124\n\nBeth David Synagogue Board Meeting
DTSTART;TZID=America/New_York:20230911T192500
DTEND;TZID=America/New_York:20230911T205500
END:VEVENT
END:VCALENDAR
