BEGIN:VCALENDAR
PRODID:-//eluceo/ical//2.0/EN
VERSION:2.0
CALSCALE:GREGORIAN
BEGIN:VEVENT
UID:5ce1886356284362ede324ae5dec0120
DTSTAMP:20260424T065454Z
SUMMARY:Beth David BBQ and High Holiday Event
DESCRIPTION:Jewish Federation of Greater Hartford\nCommunity Calendar\nhttp
 s://jewishhartford.org/community-calendar/beth-david-bbq-and-high-holiday-
 event-1691156238\n\nFall Pre-holiday event
DTSTART;TZID=America/New_York:20230903T110000
DTEND;TZID=America/New_York:20230903T150000
END:VEVENT
END:VCALENDAR
