BEGIN:VCALENDAR
PRODID:-//eluceo/ical//2.0/EN
VERSION:2.0
CALSCALE:GREGORIAN
BEGIN:VEVENT
UID:de80948ee206a87ddc5f0b96104b3a5c
DTSTAMP:20260424T140546Z
SUMMARY:Back to Beth El Temple Carnival & Community Celebration
DESCRIPTION:Jewish Federation of Greater Hartford\nCommunity Calendar\nhttp
 s://jewishhartford.org/community-calendar/back-to-beth-el-temple-carnival-
 -community-celebration-1687290641\n\nGather with your community and learn 
 about all that Beth El has to offer! Enjoy an inflatable obstacle course\,
  fun\, food\, information about Beth El programs & committees\, and other 
 entertainment. Amazin&#39\; Andy will be there! The community is invited\,
  so feel free to invite friends to this free event!
DTSTART;TZID=America/New_York:20230910T113000
DTEND;TZID=America/New_York:20230910T130000
END:VEVENT
END:VCALENDAR
