BEGIN:VCALENDAR
PRODID:-//eluceo/ical//2.0/EN
VERSION:2.0
CALSCALE:GREGORIAN
BEGIN:VEVENT
UID:23f2f4312ef7d7566cfdafe4ef710d88
DTSTAMP:20260422T173425Z
SUMMARY:Author Talk: "Jews In The Garden" with Judy Rakowsky
DESCRIPTION:Jewish Federation of Greater Hartford\nCommunity Calendar\nhttp
 s://jewishhartford.org/community-calendar/author-talk-jews-in-the-garden-w
 ith-judy-rakowsky-1702081532\n\nAn author talk with career journalist Judy
  Rakowsky about her recently published memoir\, Jews in the Garden. The bo
 ok recounts her family's history in Poland and dives into Holocaust revisi
 on done by the Polish government and average\, everyday citizens. This con
 spiracy of silence may have hindered thousands of families\, such as Rakow
 sky’s\, from ever finding closure and continues to do so to this day. Pl
 ease register here:...
DTSTART;TZID=America/New_York:20240106T183000
DTEND;TZID=America/New_York:20240106T200000
END:VEVENT
END:VCALENDAR
