BEGIN:VCALENDAR
PRODID:-//eluceo/ical//2.0/EN
VERSION:2.0
CALSCALE:GREGORIAN
BEGIN:VEVENT
UID:aeb093d7944385aa6c9a44f8887171d9
DTSTAMP:20260421T103820Z
SUMMARY:ALEPH: The Land of Israel in Medieval Jewish Thought
DESCRIPTION:Jewish Federation of Greater Hartford\nCommunity Calendar\nhttp
 s://jewishhartford.org/community-calendar/aleph-the-land-of-israel-in-medi
 eval-jewish-thought-1708442801\n\nThe ALEPH 2024 series begins February 15
  and ends March 28 with seven sessions (all sessions start at 7pm): \n•F
 ebruary 15: Deena Grant\, Ph.D.\, “The Land of Israel in Biblical Though
 t”\n•February 22: Yoni Miller\, Ph.D.\, “The Land of Israel in Bibli
 cal and Rabbinic Thought”\n•February 29: Yoni Miller\, “The Land of 
 Israel in Biblical and Rabbinic Thought” (Part 2)\n•March 7: Dana Fish
 kin\, Ph.D.\, “The Land of Israel in Medieval Jewish Thought”\n•Marc
 h 14: Avinoam...
DTSTART;TZID=America/New_York:20240307T190000
DTEND;TZID=America/New_York:20240307T210000
END:VEVENT
END:VCALENDAR
