BEGIN:VCALENDAR
PRODID:-//eluceo/ical//2.0/EN
VERSION:2.0
CALSCALE:GREGORIAN
BEGIN:VEVENT
UID:0f455d9b5e510333fa9120958be7d3f3
DTSTAMP:20260421T103816Z
SUMMARY:ALEPH: The Land of Israel and Zionist Thought
DESCRIPTION:Jewish Federation of Greater Hartford\nCommunity Calendar\nhttp
 s://jewishhartford.org/community-calendar/aleph-the-land-of-israel-and-zio
 nist-thought-1708443243\n\nThe ALEPH 2024 series begins February 15 and en
 ds March 28 with seven sessions (all sessions start at 7pm): \n•February
  15: Deena Grant\, Ph.D.\, “The Land of Israel in Biblical Thought”\n
 •February 22: Yoni Miller\, Ph.D.\, “The Land of Israel in Biblical an
 d Rabbinic Thought”\n•February 29: Yoni Miller\, “The Land of Israel
  in Biblical and Rabbinic Thought” (Part 2)\n•March 7: Dana Fishkin\, 
 Ph.D.\, “The Land of Israel in Medieval Jewish Thought”\n•March 14: 
 Avinoam...
DTSTART;TZID=America/New_York:20240321T190000
DTEND;TZID=America/New_York:20240321T210000
END:VEVENT
END:VCALENDAR
