BEGIN:VCALENDAR
PRODID:-//eluceo/ical//2.0/EN
VERSION:2.0
CALSCALE:GREGORIAN
BEGIN:VEVENT
UID:59ebb48e32cd3110e4fcf740bf55cbf7
DTSTAMP:20260421T103810Z
SUMMARY:ALEPH: The Land of Israel and Modern Jewish Political Thought
DESCRIPTION:Jewish Federation of Greater Hartford\nCommunity Calendar\nhttp
 s://jewishhartford.org/community-calendar/aleph-the-land-of-israel-and-mod
 ern-jewish-political-thought-1708443041\n\nThe ALEPH 2024 series begins Fe
 bruary 15 and ends March 28 with seven sessions (all sessions start at 7pm
 ): \n•February 15: Deena Grant\, Ph.D.\, “The Land of Israel in Biblic
 al Thought”\n•February 22: Yoni Miller\, Ph.D.\, “The Land of Israel
  in Biblical and Rabbinic Thought”\n•February 29: Yoni Miller\, “The
  Land of Israel in Biblical and Rabbinic Thought” (Part 2)\n•March 7: 
 Dana Fishkin\, Ph.D.\, “The Land of Israel in Medieval Jewish Thought”
 \n•March 14: Avinoam...
DTSTART;TZID=America/New_York:20240314T190000
DTEND;TZID=America/New_York:20240314T210000
END:VEVENT
END:VCALENDAR
