BEGIN:VCALENDAR
PRODID:-//eluceo/ical//2.0/EN
VERSION:2.0
CALSCALE:GREGORIAN
BEGIN:VEVENT
UID:824495be2d30882165e0c60e0eaec51a
DTSTAMP:20260424T181323Z
SUMMARY:ALEPH: Community-wide Jewish Learning Initiative Features Expert Sp
 eakers
DESCRIPTION:Jewish Federation of Greater Hartford\nCommunity Calendar\nhttp
 s://jewishhartford.org/community-calendar/aleph-community-wide-jewish-lear
 ning-initiative-features-expert-speakers-1708443529\n\nThe ALEPH 2024 seri
 es begins February 15 and ends March 28 with seven sessions (all sessions 
 start at 7pm): \n•February 15: Deena Grant\, Ph.D.\, “The Land of Isra
 el in Biblical Thought”\n•February 22: Yoni Miller\, Ph.D.\, “The La
 nd of Israel in Biblical and Rabbinic Thought”\n•February 29: Yoni Mil
 ler\, “The Land of Israel in Biblical and Rabbinic Thought” (Part 2)\n
 •March 7: Dana Fishkin\, Ph.D.\, “The Land of Israel in Medieval Jewis
 h Thought”\n•March 14: Avinoam...
DTSTART;TZID=America/New_York:20240328T190000
DTEND;TZID=America/New_York:20240328T210000
END:VEVENT
END:VCALENDAR
