BEGIN:VCALENDAR
PRODID:-//eluceo/ical//2.0/EN
VERSION:2.0
CALSCALE:GREGORIAN
BEGIN:VEVENT
UID:64b368db025c446c2ba66797ab325711
DTSTAMP:20260421T202303Z
SUMMARY:Adult Education - What are the main Jewish denominations?
DESCRIPTION:Jewish Federation of Greater Hartford\nCommunity Calendar\nhttp
 s://jewishhartford.org/community-calendar/adult-education---what-are-the-m
 ain-jewish-denominations-1698441728\n\nAdult education about Jewish denomi
 nations.
DTSTART;TZID=America/New_York:20240204T140000
DTEND;TZID=America/New_York:20240204T153000
END:VEVENT
END:VCALENDAR
