BEGIN:VCALENDAR
PRODID:-//eluceo/ical//2.0/EN
VERSION:2.0
CALSCALE:GREGORIAN
BEGIN:VEVENT
UID:afbc31f9acb00baa28b87d3d1a30077c
DTSTAMP:20260421T135334Z
SUMMARY:Adult Education - Jewish Death and Afterlife
DESCRIPTION:Jewish Federation of Greater Hartford\nCommunity Calendar\nhttp
 s://jewishhartford.org/community-calendar/adult-education---jewish-death-a
 nd-afterlife-1707493520\n\nAdult Education session about death and afterli
 fe to be held in Southington.
DTSTART;TZID=America/New_York:20240310T140000
DTEND;TZID=America/New_York:20240310T153000
END:VEVENT
END:VCALENDAR
