BEGIN:VCALENDAR
PRODID:-//eluceo/ical//2.0/EN
VERSION:2.0
CALSCALE:GREGORIAN
BEGIN:VEVENT
UID:89b4b61ea4a597b2e1f1d93260f2f3cc
DTSTAMP:20260423T114900Z
SUMMARY:Adult Ed: Philosophy & Leadership in Dark Times
DESCRIPTION:Jewish Federation of Greater Hartford\nCommunity Calendar\nhttp
 s://jewishhartford.org/community-calendar/adult-ed-philosophy--leadership-
 in-dark-times-1698087035\n\nDr. Yaniv Feller (University of Florida) intro
 duces the thought of Rabbi Dr. Leo Baeck (1873–1956)\, one of the most p
 rominent Jewish public intellectuals of his era and the official leader of
  German Jewry under Nazism. After briefly discussing Baeck’s biography\,
  we will examine how his understanding of the essence of Judaism developed
  in conversation with Christianity\, before moving to the impact of the ri
 se of Nazism on Baeck’s thought\, and the moral dilemmas he had to face.
DTSTART;TZID=America/New_York:20231102T203000
DTEND;TZID=America/New_York:20231102T213000
END:VEVENT
END:VCALENDAR
