BEGIN:VCALENDAR
PRODID:-//eluceo/ical//2.0/EN
VERSION:2.0
CALSCALE:GREGORIAN
BEGIN:VEVENT
UID:ddffbeab77034f034456c1e91890541c
DTSTAMP:20260421T034043Z
SUMMARY:A Private Conversation & Tour with Eliot Tatelman - Jordan's Funrni
 ture
DESCRIPTION:Jewish Federation of Greater Hartford\nCommunity Calendar\nhttp
 s://jewishhartford.org/community-calendar/a-private-conversation-tour-with
 -eliot-tatelman-jordans-funrniture\n\nJoin the Jewish Federation&#39\;s RE
 al Estate Professionals Group for a private conversation and tour of the
  new and visually immersive Jordan’s Furniture store at Westfarms. 
 Co-CEO of Jordan&#39\;s Furniture\, Eliot Tatelman\, will share his exper
 ience repurposing the former Lord & Taylor space into one of Greater Hartf
 ord&#39\;s most highly anticipated retail locations. Hear an insider&#39\;
 s perspective on the challenges and opportunities developers and retailers
  face when reutilizing commercial space...
DTSTART;TZID=America/New_York:20240411T180000
DTEND;TZID=America/New_York:20240411T200000
END:VEVENT
END:VCALENDAR
