BEGIN:VCALENDAR
PRODID:-//eluceo/ical//2.0/EN
VERSION:2.0
CALSCALE:GREGORIAN
BEGIN:VEVENT
UID:c28365be11c9ea4cb7367c8cee377898
DTSTAMP:20260426T030147Z
SUMMARY:A Historic evening with "The Honey Girl" - Esther Basch
DESCRIPTION:Jewish Federation of Greater Hartford\nCommunity Calendar\nhttp
 s://jewishhartford.org/community-calendar/a-historic-evening-with-the-hone
 y-girl---esther-basch-1698896340\n\nA 17 year old girl liberated from Ausc
 hwitz\, embarks on a journey of tolerance and forgiveness.\nEsther Basch i
 s a 95-year-old Holocaust survivor resolving to lead a life of love and fo
 rgiveness. On\nEsther’s 16th birthday\, she was placed on a cattle car a
 nd traveled to Auschwitz concentration camp. She\nfeels it is her mission 
 to spread messages of how to live one’s life\, overcoming hatred with re
 silience\,\ngrace\, dignity\, love and forgiveness by sharing her personal
  story of survival. E...
DTSTART;TZID=America/New_York:20231101T190000
DTEND;TZID=America/New_York:20231101T210000
END:VEVENT
END:VCALENDAR
