BEGIN:VCALENDAR
PRODID:-//eluceo/ical//2.0/EN
VERSION:2.0
CALSCALE:GREGORIAN
BEGIN:VEVENT
UID:10f6b6c70f5822e32f3ec5e470f668c5
DTSTAMP:20260426T034850Z
SUMMARY:A Discussion with Israeli Nova Music Festival Survivor SHYE KLEIN
DESCRIPTION:Jewish Federation of Greater Hartford\nCommunity Calendar\nhttp
 s://jewishhartford.org/community-calendar/a-discussion-with-israeli-nova-m
 usic-festival-survivor-shye-klein-1699894508\n\nShye Klein is A 26-year-ol
 d photographer from Canada.\nSix months ago he made Aliyah and moved to Is
 rael. On Saturday\,\nOctober 7\, Shye\, along with his cousin and several 
 friends\,\nescaped the Nova festival after encountering terrorists on the 
 way.\nNova Music Festival became not just the worst Israeli civilian\nmass
 acre ever\, but the deadliest concert attack in history.\nFree and open to
  all – Photo ID required for entry\nFor additional information contact A
 sif – aperetz@mandelljcc.org\n...
DTSTART;TZID=America/New_York:20231119T180000
DTEND;TZID=America/New_York:20231119T190000
END:VEVENT
END:VCALENDAR
