BEGIN:VCALENDAR
PRODID:-//eluceo/ical//2.0/EN
VERSION:2.0
CALSCALE:GREGORIAN
BEGIN:VEVENT
UID:59406fda53ad7f5389ee240b00056c00
DTSTAMP:20260421T191057Z
SUMMARY:RED LETTER - Six13 Live - Yom Ya'atzmaut
DESCRIPTION:Jewish Federation of Greater Hartford\nCommunity Calendar\nhttp
 s://jewishhartford.org/community-calendar/Six13live\n\nCelebrate Yom Ha’
 atzmaut with Six13 live at The Bushnell in Hartford.  World renowned acap
 ella parody group Six13\, known for their videos like Bohemian Chanukah (a
  Queen adaptation)\, a Billy Joel Passover\, a West Side Chanukah Story an
 d more\, will take the stage at The Bushnell for a community celebration o
 f Yom Ha’atzmaut – Israel Independence Day!\n\nTickets ($18) on sale t
 hrough The Bushnell Box Office beginning Friday\, April 12th!\n\nCheck out
  more of Six13&#39\;s songs and videos on Yo...
DTSTART;TZID=America/New_York:20240514T183000
DTEND;TZID=America/New_York:20240514T200000
END:VEVENT
END:VCALENDAR
