BEGIN:VCALENDAR
PRODID:-//eluceo/ical//2.0/EN
VERSION:2.0
CALSCALE:GREGORIAN
BEGIN:VEVENT
UID:c744246e61e3898734bb7d613c1e1d76
DTSTAMP:20260424T135223Z
SUMMARY:9th Annual Back to School Drive
DESCRIPTION:Jewish Federation of Greater Hartford\nCommunity Calendar\nhttp
 s://jewishhartford.org/community-calendar/9th-annual-back-to-school-drive-
 1689358515\n\nJewish Family Services of Greater Hartford’s 9th annual "B
 ack to School Drive" is a collaborative community effort to provide backpa
 cks and school supplies to children and teens in grades Pre-K-12 so they a
 re prepared\, confident\, and motivated to be successful in the classroom 
 and at home with the appropriate supplies.\n\nWith your help\, 80+ backpac
 ks will be distributed in time for the first day of school!\n\nDrop off su
 pplies (pencils\, pens\, markers\, pocket folders\, notebooks\, glue stick
 s...
DTSTART;TZID=America/New_York:20230801T090000
DTEND;TZID=America/New_York:20230816T160000
END:VEVENT
END:VCALENDAR
