BEGIN:VCALENDAR
PRODID:-//eluceo/ical//2.0/EN
VERSION:2.0
CALSCALE:GREGORIAN
BEGIN:VEVENT
UID:188d593d297e56b0eae7f928516a5fdd
DTSTAMP:20260425T195539Z
SUMMARY:18th  Annual Holiday Craft Bazaar
DESCRIPTION:Jewish Federation of Greater Hartford\nCommunity Calendar\nhttp
 s://jewishhartford.org/community-calendar/18th--annual-holiday-craft-bazaa
 r-1687013306\n\nAnnual holiday Crafters bazaar held at Congregation Kol Ha
 verim.  Proceeds help to support our Sisterhood.   No admission fee.  30 h
 andcrafted vendors.  Judaica\, gourmet foods\, holiday gifts\, pottery and
  so much more!
DTSTART;TZID=America/New_York:20231210T100000
DTEND;TZID=America/New_York:20231210T150000
END:VEVENT
END:VCALENDAR
